BEGIN:VCALENDAR
VERSION:2.0
PRODID:icalendar-ruby
CALSCALE:GREGORIAN
METHOD:PUBLISH
BEGIN:VEVENT
DTSTAMP:20260421T132645Z
UID:20-569232@placeofgracechurch.net
DTSTART:20260613T150000Z
DTEND:20260613T160000Z
CLASS:PUBLIC
CREATED:20260420T084220
DESCRIPTION:\nMake plans each month to get together with great men\, good f
 ood\, and a word of faith for our Monthly Mens Breakfast.\n
LAST-MODIFIED:20260420T084220
LOCATION:Dave Place
SUMMARY:Monthly Mens Fellowship Breakfast
URL;VALUE=URI:https://www.placeofgracechurch.net/events/monthly-mens-fellow
 ship-breakfast/2026-06-13
ATTACH;FILENAME=mens-brkfst.png;FMTTYPE=image/png:https://dq5pwpg1q8ru0.clo
 udfront.net/2021/06/07/16/23/06/8dc3fe98-a5ca-4eec-88b6-0dbf7315d1cd/mens-
 brkfst.png
END:VEVENT
END:VCALENDAR
