BEGIN:VCALENDAR
VERSION:2.0
PRODID:icalendar-ruby
CALSCALE:GREGORIAN
METHOD:PUBLISH
BEGIN:VEVENT
DTSTAMP:20260422T224624Z
UID:5-573809@placeofgracechurch.net
DTSTART:20261015T020000Z
DTEND:20261015T030000Z
CLASS:PUBLIC
CREATED:20260422T125706
DESCRIPTION:Joins us each week at 7pm for our Adult Bible Study\, Wednesday
 s In The Word.
LAST-MODIFIED:20260422T125706
LOCATION:816 North C St. - MPR
SUMMARY:Wednesdays In The Word 
URL;VALUE=URI:https://www.placeofgracechurch.net/events/wednesdays-in-the-w
 ord/2026-10-14
ATTACH;FILENAME=Unknown-3.png;FMTTYPE=image/png:https://dq5pwpg1q8ru0.cloud
 front.net/2025/08/01/21/10/35/9158eb76-8364-4966-a45b-68f16933e62b/Unknown
 -3.png
END:VEVENT
END:VCALENDAR
